BEGIN:VCALENDAR
VERSION:2.0
PRODID:-//CERAP Planétarium - ECPv5.16.4//NONSGML v1.0//EN
CALSCALE:GREGORIAN
METHOD:PUBLISH
X-WR-CALNAME:CERAP Planétarium
X-ORIGINAL-URL:https://www.planetarium-belfort.fr
X-WR-CALDESC:évènements pour CERAP Planétarium
BEGIN:VTIMEZONE
TZID:Europe/Paris
BEGIN:DAYLIGHT
TZOFFSETFROM:+0100
TZOFFSETTO:+0200
TZNAME:CEST
DTSTART:20170326T010000
END:DAYLIGHT
BEGIN:STANDARD
TZOFFSETFROM:+0200
TZOFFSETTO:+0100
TZNAME:CET
DTSTART:20171029T010000
END:STANDARD
END:VTIMEZONE
BEGIN:VEVENT
DTSTART;TZID=Europe/Paris:20171025T140000
DTEND;TZID=Europe/Paris:20171025T180000
DTSTAMP:20260423T123256
CREATED:20171021T133241Z
LAST-MODIFIED:20171205T125633Z
UID:220-1508940000-1508954400@www.planetarium-belfort.fr
SUMMARY:Atelier micro-fusées
DESCRIPTION:Atelier destiné aux enfants à partir de 6 ans. Construisez votre fusée et procédez à son lancement. Atelier encadré par des adultes. Le lancement est réalisé en compagnie d’un responsable\, seule personne étant formée et habilité à manipuler les moteurs de propulsion.
URL:https://www.planetarium-belfort.fr/event/atelier-micro-fusees/
LOCATION:CERAP Planétarium\, 2 rue Jean Pierre Melville\, Belfort\, 90000\, France
CATEGORIES:Ateliers
ORGANIZER;CN="CERAP":MAILTO:cerap@neuf.fr
END:VEVENT
END:VCALENDAR