BEGIN:VCALENDAR
VERSION:2.0
PRODID:-//CERAP Planétarium - ECPv5.16.4//NONSGML v1.0//EN
CALSCALE:GREGORIAN
METHOD:PUBLISH
X-WR-CALNAME:CERAP Planétarium
X-ORIGINAL-URL:https://www.planetarium-belfort.fr
X-WR-CALDESC:évènements pour CERAP Planétarium
BEGIN:VTIMEZONE
TZID:Europe/Paris
BEGIN:DAYLIGHT
TZOFFSETFROM:+0100
TZOFFSETTO:+0200
TZNAME:CEST
DTSTART:20220327T010000
END:DAYLIGHT
BEGIN:STANDARD
TZOFFSETFROM:+0200
TZOFFSETTO:+0100
TZNAME:CET
DTSTART:20221030T010000
END:STANDARD
END:VTIMEZONE
BEGIN:VEVENT
DTSTART;TZID=Europe/Paris:20220712T203000
DTEND;TZID=Europe/Paris:20220712T223000
DTSTAMP:20260421T105118
CREATED:20220808T133913Z
LAST-MODIFIED:20220808T135256Z
UID:8771-1657657800-1657665000@www.planetarium-belfort.fr
SUMMARY:Dévoilement 1ères images JWST/ESA
DESCRIPTION:Découvrez avec nous les premières images du télescope spatial James Webb
URL:https://www.planetarium-belfort.fr/event/devoilement-1eres-images-jwst-esa/
LOCATION:CERAP Planétarium\, 2 rue Jean Pierre Melville\, Belfort\, 90000\, France
CATEGORIES:Retransmission
ORGANIZER;CN="CERAP":MAILTO:cerap@neuf.fr
END:VEVENT
END:VCALENDAR