BEGIN:VCALENDAR
VERSION:2.0
PRODID:-//CERAP Planétarium - ECPv5.16.4//NONSGML v1.0//EN
CALSCALE:GREGORIAN
METHOD:PUBLISH
X-WR-CALNAME:CERAP Planétarium
X-ORIGINAL-URL:https://www.planetarium-belfort.fr
X-WR-CALDESC:évènements pour CERAP Planétarium
BEGIN:VTIMEZONE
TZID:Europe/Paris
BEGIN:DAYLIGHT
TZOFFSETFROM:+0100
TZOFFSETTO:+0200
TZNAME:CEST
DTSTART:20250330T010000
END:DAYLIGHT
BEGIN:STANDARD
TZOFFSETFROM:+0200
TZOFFSETTO:+0100
TZNAME:CET
DTSTART:20251026T010000
END:STANDARD
END:VTIMEZONE
BEGIN:VEVENT
DTSTART;TZID=Europe/Paris:20251011T190000
DTEND;TZID=Europe/Paris:20251011T230000
DTSTAMP:20260421T155828
CREATED:20250929T131453Z
LAST-MODIFIED:20250929T131507Z
UID:11548-1760209200-1760223600@www.planetarium-belfort.fr
SUMMARY:Exposition Le jour de la nuit 2025
DESCRIPTION:Exposition au planétarium de Belfort dans le cadre de l’évènement national « Le Jour de la Nuit ». \nObservation du ciel au telescope si la météo le permet depuis le parking devant le planétarium. \nUne conférence de la LPO sur ce sujet a lieu à 20h00 sur un autre site à Belfort \nEntrée libre sans réservation
URL:https://www.planetarium-belfort.fr/event/exposition-le-jour-de-la-nuit-2025/
LOCATION:CERAP Planétarium\, 2 rue Jean Pierre Melville\, Belfort\, 90000\, France
END:VEVENT
END:VCALENDAR