BEGIN:VCALENDAR
VERSION:2.0
PRODID:-//CERAP Planétarium - ECPv5.16.4//NONSGML v1.0//EN
CALSCALE:GREGORIAN
METHOD:PUBLISH
X-WR-CALNAME:CERAP Planétarium
X-ORIGINAL-URL:https://www.planetarium-belfort.fr
X-WR-CALDESC:évènements pour CERAP Planétarium
BEGIN:VTIMEZONE
TZID:Europe/Paris
BEGIN:DAYLIGHT
TZOFFSETFROM:+0100
TZOFFSETTO:+0200
TZNAME:CEST
DTSTART:20220327T010000
END:DAYLIGHT
BEGIN:STANDARD
TZOFFSETFROM:+0200
TZOFFSETTO:+0100
TZNAME:CET
DTSTART:20221030T010000
END:STANDARD
END:VTIMEZONE
BEGIN:VEVENT
DTSTART;TZID=Europe/Paris:20220808T210000
DTEND;TZID=Europe/Paris:20220808T233000
DTSTAMP:20260424T093228
CREATED:20220808T134915Z
LAST-MODIFIED:20220808T134915Z
UID:8779-1659992400-1660001400@www.planetarium-belfort.fr
SUMMARY:Festiv’été
DESCRIPTION:Observation du ciel au télescope à partir de 21h00 où amas globulaire\, nébuleuse planétaire et autre étoile double seront au rendez-vous ainsi que Jupiter qui apparaitra en toute fin de soirée.
URL:https://www.planetarium-belfort.fr/event/festivete-7/
LOCATION:CERAP Planétarium\, 2 rue Jean Pierre Melville\, Belfort\, 90000\, France
CATEGORIES:Observations
ORGANIZER;CN="CERAP":MAILTO:cerap@neuf.fr
END:VEVENT
END:VCALENDAR