BEGIN:VCALENDAR
VERSION:2.0
PRODID:-//CERAP Planétarium - ECPv5.16.4//NONSGML v1.0//EN
CALSCALE:GREGORIAN
METHOD:PUBLISH
X-WR-CALNAME:CERAP Planétarium
X-ORIGINAL-URL:https://www.planetarium-belfort.fr
X-WR-CALDESC:évènements pour CERAP Planétarium
BEGIN:VTIMEZONE
TZID:Europe/Paris
BEGIN:DAYLIGHT
TZOFFSETFROM:+0100
TZOFFSETTO:+0200
TZNAME:CEST
DTSTART:20200329T010000
END:DAYLIGHT
BEGIN:STANDARD
TZOFFSETFROM:+0200
TZOFFSETTO:+0100
TZNAME:CET
DTSTART:20201025T010000
END:STANDARD
END:VTIMEZONE
BEGIN:VEVENT
DTSTART;TZID=Europe/Paris:20201011T100000
DTEND;TZID=Europe/Paris:20201011T180000
DTSTAMP:20260421T172458
CREATED:20201007T131141Z
LAST-MODIFIED:20201007T131202Z
UID:6309-1602410400-1602439200@www.planetarium-belfort.fr
SUMMARY:Fête de la science 2020
DESCRIPTION:Retrouvez le stand du Planétarium de Belfort au Village des Sciences de Montbéliard\, salle de la Roselière. \n\nAborder les sciences à travers  des jeux\, des expériences et des ateliers pour découvrir météorites\, minéraux et autres instruments d’astronomie…
URL:https://www.planetarium-belfort.fr/event/fete-de-la-science-2020-2/
LOCATION:La Roselière\, Rue du Champ de Foire\, Montbéliard\, 25200\, France
CATEGORIES:Manifestation
ORGANIZER;CN="Pavillon%20des%20sciences":MAILTO:contact@pavillon-sciences.com
END:VEVENT
END:VCALENDAR