BEGIN:VCALENDAR
VERSION:2.0
PRODID:-//CERAP Planétarium - ECPv5.16.4//NONSGML v1.0//EN
CALSCALE:GREGORIAN
METHOD:PUBLISH
X-WR-CALNAME:CERAP Planétarium
X-ORIGINAL-URL:https://www.planetarium-belfort.fr
X-WR-CALDESC:évènements pour CERAP Planétarium
BEGIN:VTIMEZONE
TZID:Europe/Paris
BEGIN:DAYLIGHT
TZOFFSETFROM:+0100
TZOFFSETTO:+0200
TZNAME:CEST
DTSTART:20250330T010000
END:DAYLIGHT
BEGIN:STANDARD
TZOFFSETFROM:+0200
TZOFFSETTO:+0100
TZNAME:CET
DTSTART:20251026T010000
END:STANDARD
END:VTIMEZONE
BEGIN:VEVENT
DTSTART;TZID=Europe/Paris:20251011T100000
DTEND;TZID=Europe/Paris:20251011T180000
DTSTAMP:20260421T143720
CREATED:20251004T205002Z
LAST-MODIFIED:20251004T205004Z
UID:11569-1760176800-1760205600@www.planetarium-belfort.fr
SUMMARY:Fête de la science 2025
DESCRIPTION:Venez découvrir nos nouveautés et participer à nos ateliers ludiques et immersifs\, ainsi qu’à ceux de nombreux autres exposants passionnés. Un week-end placé sous le signe de la découverte\, du partage et de l’émerveillement vous attend !
URL:https://www.planetarium-belfort.fr/event/fete-de-la-science-2025/
LOCATION:Salle des fêtes de Belfort\, 11\, place de la république\, Belfort\, Territoire de Belfort\, 90000\, France
ORGANIZER;CN="Pavillon%20des%20sciences":MAILTO:contact@pavillon-sciences.com
END:VEVENT
END:VCALENDAR