BEGIN:VCALENDAR
VERSION:2.0
PRODID:-//CERAP Planétarium - ECPv5.16.4//NONSGML v1.0//EN
CALSCALE:GREGORIAN
METHOD:PUBLISH
X-WR-CALNAME:CERAP Planétarium
X-ORIGINAL-URL:https://www.planetarium-belfort.fr
X-WR-CALDESC:évènements pour CERAP Planétarium
BEGIN:VTIMEZONE
TZID:Europe/Paris
BEGIN:DAYLIGHT
TZOFFSETFROM:+0100
TZOFFSETTO:+0200
TZNAME:CEST
DTSTART:20180325T010000
END:DAYLIGHT
BEGIN:STANDARD
TZOFFSETFROM:+0200
TZOFFSETTO:+0100
TZNAME:CET
DTSTART:20181028T010000
END:STANDARD
END:VTIMEZONE
BEGIN:VEVENT
DTSTART;VALUE=DATE:20180323
DTEND;VALUE=DATE:20180327
DTSTAMP:20260423T070208
CREATED:20180123T232137Z
LAST-MODIFIED:20180308T145207Z
UID:1396-1521784800-1522043999@www.planetarium-belfort.fr
SUMMARY:Journées de l'Astronomie de Belfort
DESCRIPTION:Trois journées au cours desquelles sont proposées des animations\, des conférences et des séances d’observation du ciel. \nVendredi 23 mars\n10h00 : Conférence Philippe Rousselot  « Le ciel peut-il nous tomber sur la tête ? »\nà l’Université Louis NÉEL. Conférence à destination des lycéens de classes scientifiques\nEntrée gratuite sur réservation à cerap@neuf.fr \n20h30 : Conférence Françoise Combes « Ces trous noirs si utiles »\nà la Chambre de Commerce et d’Industrie de Belfort\nEntrée 5 € / Gratuit pour les membres du CERAP \n\nSamedi 24 mars\n20h30 : Animation Planétarium « Le ciel de ce soir »  \n\n21h30 : Observation du ciel nocturne au télescope \n Dimanche 25 mars\n15h00 : Observation du Soleil au télescope et portes ouvertes Planétarium
URL:https://www.planetarium-belfort.fr/event/journees-de-lastronomie-de-belfort/
LOCATION:CERAP Planétarium\, 2 rue Jean Pierre Melville\, Belfort\, 90000\, France
CATEGORIES:Manifestation
ORGANIZER;CN="CERAP":MAILTO:cerap@neuf.fr
END:VEVENT
END:VCALENDAR