BEGIN:VCALENDAR
VERSION:2.0
PRODID:-//CERAP Planétarium - ECPv5.16.4//NONSGML v1.0//EN
CALSCALE:GREGORIAN
METHOD:PUBLISH
X-WR-CALNAME:CERAP Planétarium
X-ORIGINAL-URL:https://www.planetarium-belfort.fr
X-WR-CALDESC:évènements pour CERAP Planétarium
BEGIN:VTIMEZONE
TZID:Europe/Paris
BEGIN:DAYLIGHT
TZOFFSETFROM:+0100
TZOFFSETTO:+0200
TZNAME:CEST
DTSTART:20220327T010000
END:DAYLIGHT
BEGIN:STANDARD
TZOFFSETFROM:+0200
TZOFFSETTO:+0100
TZNAME:CET
DTSTART:20221030T010000
END:STANDARD
END:VTIMEZONE
BEGIN:VEVENT
DTSTART;TZID=Europe/Paris:20220807T150000
DTEND;TZID=Europe/Paris:20220807T180000
DTSTAMP:20260424T104837
CREATED:20220808T134631Z
LAST-MODIFIED:20220808T134755Z
UID:8777-1659884400-1659895200@www.planetarium-belfort.fr
SUMMARY:La nuit des étoiles 2022
DESCRIPTION:Deuxième jour\, devant le planétarium de Belfort \n\n15h00 – 18h00 : Observation du Soleil au télescope.
URL:https://www.planetarium-belfort.fr/event/la-nuit-des-etoiles-2022-2/
LOCATION:CERAP Planétarium\, 2 rue Jean Pierre Melville\, Belfort\, 90000\, France
CATEGORIES:Observations
ORGANIZER;CN="CERAP":MAILTO:cerap@neuf.fr
END:VEVENT
END:VCALENDAR