BEGIN:VCALENDAR
VERSION:2.0
PRODID:-//CERAP Planétarium - ECPv5.16.4//NONSGML v1.0//EN
CALSCALE:GREGORIAN
METHOD:PUBLISH
X-WR-CALNAME:CERAP Planétarium
X-ORIGINAL-URL:https://www.planetarium-belfort.fr
X-WR-CALDESC:évènements pour CERAP Planétarium
BEGIN:VTIMEZONE
TZID:Europe/Paris
BEGIN:DAYLIGHT
TZOFFSETFROM:+0100
TZOFFSETTO:+0200
TZNAME:CEST
DTSTART:20170326T010000
END:DAYLIGHT
BEGIN:STANDARD
TZOFFSETFROM:+0200
TZOFFSETTO:+0100
TZNAME:CET
DTSTART:20171029T010000
END:STANDARD
END:VTIMEZONE
BEGIN:VEVENT
DTSTART;TZID=Europe/Paris:20171109T203000
DTEND;TZID=Europe/Paris:20171109T220000
DTSTAMP:20260423T123301
CREATED:20171030T172541Z
LAST-MODIFIED:20171205T125624Z
UID:742-1510259400-1510264800@www.planetarium-belfort.fr
SUMMARY:Les jeudis de l'astronomie
DESCRIPTION:Conférence: La terre au fil des âges.\nUn récit qui retrace les événements\, parfois cataclysmiques mais décisifs pour l’émergence de la vie\, qu’a connu la Terre\, de l’enfer de sa jeunesse à la Planète bleue d’aujourd’hui.
URL:https://www.planetarium-belfort.fr/event/les-jeudis-de-lastronomie/
LOCATION:CERAP Planétarium\, 2 rue Jean Pierre Melville\, Belfort\, 90000\, France
CATEGORIES:Conférences
ORGANIZER;CN="CERAP":MAILTO:cerap@neuf.fr
END:VEVENT
END:VCALENDAR