BEGIN:VCALENDAR
VERSION:2.0
PRODID:-//CERAP Planétarium - ECPv5.16.4//NONSGML v1.0//EN
CALSCALE:GREGORIAN
METHOD:PUBLISH
X-WR-CALNAME:CERAP Planétarium
X-ORIGINAL-URL:https://www.planetarium-belfort.fr
X-WR-CALDESC:évènements pour CERAP Planétarium
BEGIN:VTIMEZONE
TZID:Europe/Paris
BEGIN:DAYLIGHT
TZOFFSETFROM:+0100
TZOFFSETTO:+0200
TZNAME:CEST
DTSTART:20180325T010000
END:DAYLIGHT
BEGIN:STANDARD
TZOFFSETFROM:+0200
TZOFFSETTO:+0100
TZNAME:CET
DTSTART:20181028T010000
END:STANDARD
END:VTIMEZONE
BEGIN:VEVENT
DTSTART;TZID=Europe/Paris:20180821T210000
DTEND;TZID=Europe/Paris:20180821T233000
DTSTAMP:20260422T232431
CREATED:20180808T125919Z
LAST-MODIFIED:20180808T131506Z
UID:2354-1534885200-1534894200@www.planetarium-belfort.fr
SUMMARY:Nuit des étoiles à la Base de la Saline de Lure
DESCRIPTION:Observation du ciel au télescope
URL:https://www.planetarium-belfort.fr/event/nuit-des-etoiles-a-la-base-de-la-saline-de-lure/
LOCATION:Saline de Lure\, 42\, route de la saline\, Lure\, 70200\, France
CATEGORIES:Observations
ORGANIZER;CN="CERAP":MAILTO:cerap@neuf.fr
END:VEVENT
END:VCALENDAR