BEGIN:VCALENDAR
VERSION:2.0
PRODID:-//CERAP Planétarium - ECPv5.16.4//NONSGML v1.0//EN
CALSCALE:GREGORIAN
METHOD:PUBLISH
X-WR-CALNAME:CERAP Planétarium
X-ORIGINAL-URL:https://www.planetarium-belfort.fr
X-WR-CALDESC:évènements pour CERAP Planétarium
BEGIN:VTIMEZONE
TZID:Europe/Paris
BEGIN:DAYLIGHT
TZOFFSETFROM:+0100
TZOFFSETTO:+0200
TZNAME:CEST
DTSTART:20180325T010000
END:DAYLIGHT
BEGIN:STANDARD
TZOFFSETFROM:+0200
TZOFFSETTO:+0100
TZNAME:CET
DTSTART:20181028T010000
END:STANDARD
END:VTIMEZONE
BEGIN:VEVENT
DTSTART;TZID=Europe/Paris:20180601T190000
DTEND;TZID=Europe/Paris:20180601T233000
DTSTAMP:20260423T021218
CREATED:20180222T113548Z
LAST-MODIFIED:20180507T084629Z
UID:1708-1527879600-1527895800@www.planetarium-belfort.fr
SUMMARY:Observation des étoiles à Lure
DESCRIPTION:Conférence\, Observation des étoiles et collation bio à la Mairie de LURE \nÀ l’occasion de la Semaine Luronne du Développement Durable du 30 mai au 5 juin 2018 avec le Cerap – Planétarium & Club d’Astronomie de Belfort
URL:https://www.planetarium-belfort.fr/event/observation-des-etoiles-a-lure/
LOCATION:Mairie de LURE\, Rue de la Font BP 167\, LURE\, 70204\, France
CATEGORIES:Observations
ORGANIZER;CN="CERAP":MAILTO:cerap@neuf.fr
END:VEVENT
END:VCALENDAR