BEGIN:VCALENDAR
VERSION:2.0
PRODID:-//CERAP Planétarium - ECPv5.16.4//NONSGML v1.0//EN
CALSCALE:GREGORIAN
METHOD:PUBLISH
X-WR-CALNAME:CERAP Planétarium
X-ORIGINAL-URL:https://www.planetarium-belfort.fr
X-WR-CALDESC:évènements pour CERAP Planétarium
BEGIN:VTIMEZONE
TZID:Europe/Paris
BEGIN:DAYLIGHT
TZOFFSETFROM:+0100
TZOFFSETTO:+0200
TZNAME:CEST
DTSTART:20190331T010000
END:DAYLIGHT
BEGIN:STANDARD
TZOFFSETFROM:+0200
TZOFFSETTO:+0100
TZNAME:CET
DTSTART:20191027T010000
END:STANDARD
END:VTIMEZONE
BEGIN:VEVENT
DTSTART;TZID=Europe/Paris:20190206T143000
DTEND;TZID=Europe/Paris:20190206T170000
DTSTAMP:20260424T105002
CREATED:20181231T173053Z
LAST-MODIFIED:20181231T173053Z
UID:3310-1549463400-1549472400@www.planetarium-belfort.fr
SUMMARY:Atelier Astro-Juniors
DESCRIPTION:Thème: Le Système solaire. Une étoile\, huit Planètes et les autres. \nLe Planétarium de Belfort propose des ateliers autour du thème de l’Astronomie à destination de Juniors. Classe d’âges: Ce1 à Cm2.
URL:https://www.planetarium-belfort.fr/event/atelier-astro-juniors-2/
LOCATION:CERAP Planétarium\, 2 rue Jean Pierre Melville\, Belfort\, 90000\, France
CATEGORIES:Ateliers
ORGANIZER;CN="CERAP":MAILTO:cerap@neuf.fr
END:VEVENT
END:VCALENDAR