BEGIN:VCALENDAR
VERSION:2.0
PRODID:-//CERAP Planétarium - ECPv5.16.4//NONSGML v1.0//EN
CALSCALE:GREGORIAN
METHOD:PUBLISH
X-WR-CALNAME:CERAP Planétarium
X-ORIGINAL-URL:https://www.planetarium-belfort.fr
X-WR-CALDESC:évènements pour CERAP Planétarium
BEGIN:VTIMEZONE
TZID:Europe/Paris
BEGIN:DAYLIGHT
TZOFFSETFROM:+0100
TZOFFSETTO:+0200
TZNAME:CEST
DTSTART:20190331T010000
END:DAYLIGHT
BEGIN:STANDARD
TZOFFSETFROM:+0200
TZOFFSETTO:+0100
TZNAME:CET
DTSTART:20191027T010000
END:STANDARD
END:VTIMEZONE
BEGIN:VEVENT
DTSTART;TZID=Europe/Paris:20191002T143000
DTEND;TZID=Europe/Paris:20191002T163000
DTSTAMP:20260423T234222
CREATED:20190820T082430Z
LAST-MODIFIED:20190820T082430Z
UID:4110-1570026600-1570033800@www.planetarium-belfort.fr
SUMMARY:Atelier Astro-Junior - Galaxies
DESCRIPTION:Atelier 2 – Galaxies\, une architecture étonnante (géométrie amusante) \n\nDiaporama: « Figures géométriques remarquables »\nEllipse\, spirale\, nombre d’or dans la nature et dans l’espace…\nActivité pratique: Réalisation de maquettes\nSpirale d’or et classement des galaxies\n\nObjectif: Se familiariser avec les figures géométriques et les galaxies
URL:https://www.planetarium-belfort.fr/event/atelier-astro-junior-galaxies/
LOCATION:CERAP Planétarium\, 2 rue Jean Pierre Melville\, Belfort\, 90000\, France
CATEGORIES:Ateliers
ORGANIZER;CN="CERAP":MAILTO:cerap@neuf.fr
END:VEVENT
END:VCALENDAR