BEGIN:VCALENDAR
VERSION:2.0
PRODID:-//CERAP Planétarium - ECPv5.16.4//NONSGML v1.0//EN
CALSCALE:GREGORIAN
METHOD:PUBLISH
X-WR-CALNAME:CERAP Planétarium
X-ORIGINAL-URL:https://www.planetarium-belfort.fr
X-WR-CALDESC:évènements pour CERAP Planétarium
BEGIN:VTIMEZONE
TZID:Europe/Paris
BEGIN:DAYLIGHT
TZOFFSETFROM:+0100
TZOFFSETTO:+0200
TZNAME:CEST
DTSTART:20190331T010000
END:DAYLIGHT
BEGIN:STANDARD
TZOFFSETFROM:+0200
TZOFFSETTO:+0100
TZNAME:CET
DTSTART:20191027T010000
END:STANDARD
END:VTIMEZONE
BEGIN:VEVENT
DTSTART;TZID=Europe/Paris:20191030T140000
DTEND;TZID=Europe/Paris:20191030T160000
DTSTAMP:20260423T222059
CREATED:20191008T173941Z
LAST-MODIFIED:20191008T175139Z
UID:4297-1572444000-1572451200@www.planetarium-belfort.fr
SUMMARY:Microfusées : fabrication
DESCRIPTION:Demi journée de fabrication de microfusées au Planétarium de Belfort. \nLe lancement aura lieu le dimanche 2 novembre depuis l’aérodrome de Chaux. \nInscription préalable obligatoire ici. Le prix inclus la participation aux deux séances (fabrication et lancement). Demi-tarif pour les membres du club astro. \n 
URL:https://www.planetarium-belfort.fr/event/microfusees-fabrication/
LOCATION:CERAP Planétarium\, 2 rue Jean Pierre Melville\, Belfort\, 90000\, France
CATEGORIES:Ateliers
ORGANIZER;CN="CERAP":MAILTO:cerap@neuf.fr
END:VEVENT
END:VCALENDAR