BEGIN:VCALENDAR
VERSION:2.0
PRODID:-//CERAP Planétarium - ECPv5.16.4//NONSGML v1.0//EN
CALSCALE:GREGORIAN
METHOD:PUBLISH
X-WR-CALNAME:CERAP Planétarium
X-ORIGINAL-URL:https://www.planetarium-belfort.fr
X-WR-CALDESC:évènements pour CERAP Planétarium
BEGIN:VTIMEZONE
TZID:Europe/Paris
BEGIN:DAYLIGHT
TZOFFSETFROM:+0100
TZOFFSETTO:+0200
TZNAME:CEST
DTSTART:20190331T010000
END:DAYLIGHT
BEGIN:STANDARD
TZOFFSETFROM:+0200
TZOFFSETTO:+0100
TZNAME:CET
DTSTART:20191027T010000
END:STANDARD
END:VTIMEZONE
BEGIN:VEVENT
DTSTART;TZID=Europe/Paris:20191106T143000
DTEND;TZID=Europe/Paris:20191106T163000
DTSTAMP:20260423T222214
CREATED:20190820T082702Z
LAST-MODIFIED:20190820T082715Z
UID:4113-1573050600-1573057800@www.planetarium-belfort.fr
SUMMARY:Atelier Astro-Junior - Énigme spatiale
DESCRIPTION:Atelier  3 – Énigme spatiale (sciences amusantes) \n\nDiaporama: « Vivre dans l’ISS »\nQue font les astronautes dans l’ISS et comment y vivent-ils ?\nActivité pratique: « Sauver Thomas Pesquet »\nL’astronaute est entré dans un sas de l’ISS avant l’arrivée du vaisseau Soyouz qui  doit  le  ramener  sur  Terre\,  mais  survient  un  problème !\n\nPour solutionner ce problème\, il faut résoudre des énigmes à partir d’indices à découvrir et décrypter dans les salles du planétarium à l’aide d’observations\, d’expériences\, de calculs et de raisonnements… \nObjectif: Se familiariser avec les sciences
URL:https://www.planetarium-belfort.fr/event/atelier-astro-junior-enigme-spatiale/
LOCATION:CERAP Planétarium\, 2 rue Jean Pierre Melville\, Belfort\, 90000\, France
CATEGORIES:Ateliers
ORGANIZER;CN="CERAP":MAILTO:cerap@neuf.fr
END:VEVENT
END:VCALENDAR