BEGIN:VCALENDAR
VERSION:2.0
PRODID:-//CERAP Planétarium - ECPv5.16.4//NONSGML v1.0//EN
CALSCALE:GREGORIAN
METHOD:PUBLISH
X-WR-CALNAME:CERAP Planétarium
X-ORIGINAL-URL:https://www.planetarium-belfort.fr
X-WR-CALDESC:évènements pour CERAP Planétarium
BEGIN:VTIMEZONE
TZID:Europe/Paris
BEGIN:DAYLIGHT
TZOFFSETFROM:+0100
TZOFFSETTO:+0200
TZNAME:CEST
DTSTART:20190331T010000
END:DAYLIGHT
BEGIN:STANDARD
TZOFFSETFROM:+0200
TZOFFSETTO:+0100
TZNAME:CET
DTSTART:20191027T010000
END:STANDARD
END:VTIMEZONE
BEGIN:VEVENT
DTSTART;TZID=Europe/Paris:20191204T143000
DTEND;TZID=Europe/Paris:20191204T163000
DTSTAMP:20260423T210435
CREATED:20190820T083006Z
LAST-MODIFIED:20190820T083020Z
UID:4116-1575469800-1575477000@www.planetarium-belfort.fr
SUMMARY:Atelier Astro-Junior - Les deux infinis
DESCRIPTION:Atelier 4 – Les deux infinis (maths amusantes) \n\nDiaporama: « de l’infiniment petit à l’infiniment grand »\nActivités pratiques:\n\n« Ficelle astronomique »\nPositionner les planètes du Système solaire aux bons endroits et aux bonnes distances sur une ficelle de 5m.\n« D’un infini à l’autre »\nFabriquer un jeu de cartes représentant divers objets naturels à placer sur les bonnes cases d’un tableau selon leur dimension.\n\n\n\nObjectif: Se familiariser avec les dimensions et les échelles.
URL:https://www.planetarium-belfort.fr/event/atelier-astro-junior-les-deux-infinis/
LOCATION:CERAP Planétarium\, 2 rue Jean Pierre Melville\, Belfort\, 90000\, France
CATEGORIES:Ateliers
ORGANIZER;CN="CERAP":MAILTO:cerap@neuf.fr
END:VEVENT
END:VCALENDAR