BEGIN:VCALENDAR
VERSION:2.0
PRODID:-//CERAP Planétarium - ECPv5.16.4//NONSGML v1.0//EN
CALSCALE:GREGORIAN
METHOD:PUBLISH
X-WR-CALNAME:CERAP Planétarium
X-ORIGINAL-URL:https://www.planetarium-belfort.fr
X-WR-CALDESC:évènements pour CERAP Planétarium
BEGIN:VTIMEZONE
TZID:Europe/Paris
BEGIN:DAYLIGHT
TZOFFSETFROM:+0100
TZOFFSETTO:+0200
TZNAME:CEST
DTSTART:20200329T010000
END:DAYLIGHT
BEGIN:STANDARD
TZOFFSETFROM:+0200
TZOFFSETTO:+0100
TZNAME:CET
DTSTART:20201025T010000
END:STANDARD
END:VTIMEZONE
BEGIN:VEVENT
DTSTART;TZID=Europe/Paris:20200226T140000
DTEND;TZID=Europe/Paris:20200226T160000
DTSTAMP:20260423T165838
CREATED:20200219T215910Z
LAST-MODIFIED:20200219T220115Z
UID:4710-1582725600-1582732800@www.planetarium-belfort.fr
SUMMARY:Plané-Vacances
DESCRIPTION:Animation d’environ 2 heures en 4 étapes. \n\nVisite guidée\nAtelier découverte\nVoyage interplanétaire par le biais de météorites\nVoyage interstellaire sous le dôme du planétarium\n\nSuiviez le lien pour en savoir plus. \nTarif adultes 5 euros\, enfants 4 euros. Réservation conseillée.
URL:https://www.planetarium-belfort.fr/event/plane-vacances-3/
LOCATION:CERAP Planétarium\, 2 rue Jean Pierre Melville\, Belfort\, 90000\, France
CATEGORIES:Ateliers
ORGANIZER;CN="CERAP":MAILTO:cerap@neuf.fr
END:VEVENT
END:VCALENDAR