BEGIN:VCALENDAR
VERSION:2.0
PRODID:-//CERAP Planétarium - ECPv5.16.4//NONSGML v1.0//EN
CALSCALE:GREGORIAN
METHOD:PUBLISH
X-WR-CALNAME:CERAP Planétarium
X-ORIGINAL-URL:https://www.planetarium-belfort.fr
X-WR-CALDESC:évènements pour CERAP Planétarium
BEGIN:VTIMEZONE
TZID:Europe/Paris
BEGIN:DAYLIGHT
TZOFFSETFROM:+0100
TZOFFSETTO:+0200
TZNAME:CEST
DTSTART:20210328T010000
END:DAYLIGHT
BEGIN:STANDARD
TZOFFSETFROM:+0200
TZOFFSETTO:+0100
TZNAME:CET
DTSTART:20211031T010000
END:STANDARD
END:VTIMEZONE
BEGIN:VEVENT
DTSTART;TZID=Europe/Paris:20211222T143000
DTEND;TZID=Europe/Paris:20211222T163000
DTSTAMP:20260422T110606
CREATED:20211128T232612Z
LAST-MODIFIED:20211128T232612Z
UID:8075-1640183400-1640190600@www.planetarium-belfort.fr
SUMMARY:Plané-Vacances
DESCRIPTION:Entre ciel et Terre… \n\nAteliers découverte des météorites et des minéraux.\nVoyage interstellaire sous le dôme du Planétarium.\n\n\nRéservation obligatoire : à cerap@neuf.fr \nMesures sanitaires covid : Pass sanitaire à partir de 12 ans et masque à partir de 6 ans.
URL:https://www.planetarium-belfort.fr/event/plane-vacances-9/
LOCATION:CERAP Planétarium\, 2 rue Jean Pierre Melville\, Belfort\, 90000\, France
CATEGORIES:Ateliers
ORGANIZER;CN="CERAP":MAILTO:cerap@neuf.fr
END:VEVENT
END:VCALENDAR