BEGIN:VCALENDAR
VERSION:2.0
PRODID:-//CERAP Planétarium - ECPv5.16.4//NONSGML v1.0//EN
CALSCALE:GREGORIAN
METHOD:PUBLISH
X-WR-CALNAME:CERAP Planétarium
X-ORIGINAL-URL:https://www.planetarium-belfort.fr
X-WR-CALDESC:évènements pour CERAP Planétarium
BEGIN:VTIMEZONE
TZID:Europe/Paris
BEGIN:DAYLIGHT
TZOFFSETFROM:+0100
TZOFFSETTO:+0200
TZNAME:CEST
DTSTART:20220327T010000
END:DAYLIGHT
BEGIN:STANDARD
TZOFFSETFROM:+0200
TZOFFSETTO:+0100
TZNAME:CET
DTSTART:20221030T010000
END:STANDARD
END:VTIMEZONE
BEGIN:VEVENT
DTSTART;TZID=Europe/Paris:20221026T143000
DTEND;TZID=Europe/Paris:20221026T163000
DTSTAMP:20260421T205012
CREATED:20221014T132425Z
LAST-MODIFIED:20221014T132425Z
UID:9239-1666794600-1666801800@www.planetarium-belfort.fr
SUMMARY:Plané-Vacances
DESCRIPTION:Une animation Planétarium\, spéciale vacances\, pour découvrir en famille\, les mystères et l’intimité du Cosmos.\n \n\nAteliers minéraux\, météorites…\nVisite guidée des expos\nSéance Planétarium\n\nRéservation obligatoire
URL:https://www.planetarium-belfort.fr/event/plane-vacances-11/
LOCATION:CERAP Planétarium\, 2 rue Jean Pierre Melville\, Belfort\, 90000\, France
CATEGORIES:Ateliers
ORGANIZER;CN="CERAP":MAILTO:cerap@neuf.fr
END:VEVENT
END:VCALENDAR