BEGIN:VCALENDAR
VERSION:2.0
PRODID:-//CERAP Planétarium - ECPv5.16.4//NONSGML v1.0//EN
CALSCALE:GREGORIAN
METHOD:PUBLISH
X-WR-CALNAME:CERAP Planétarium
X-ORIGINAL-URL:https://www.planetarium-belfort.fr
X-WR-CALDESC:évènements pour CERAP Planétarium
BEGIN:VTIMEZONE
TZID:Europe/Paris
BEGIN:DAYLIGHT
TZOFFSETFROM:+0100
TZOFFSETTO:+0200
TZNAME:CEST
DTSTART:20220327T010000
END:DAYLIGHT
BEGIN:STANDARD
TZOFFSETFROM:+0200
TZOFFSETTO:+0100
TZNAME:CET
DTSTART:20221030T010000
END:STANDARD
END:VTIMEZONE
BEGIN:VEVENT
DTSTART;TZID=Europe/Paris:20221207T143000
DTEND;TZID=Europe/Paris:20221207T163000
DTSTAMP:20260421T175055
CREATED:20220830T130717Z
LAST-MODIFIED:20220830T130733Z
UID:8904-1670423400-1670430600@www.planetarium-belfort.fr
SUMMARY:Atelier Astro-Junior - La lumière dans tous ses états
DESCRIPTION:De la lumière visible à la lumière invisible des objets du ciel nocturne. \nRéservation obligatoire. Accueil à 14h15.
URL:https://www.planetarium-belfort.fr/event/atelier-astro-junior-la-lumiere-dans-tous-ses-etats/
LOCATION:CERAP Planétarium\, 2 rue Jean Pierre Melville\, Belfort\, 90000\, France
CATEGORIES:Ateliers
ORGANIZER;CN="CERAP":MAILTO:cerap@neuf.fr
END:VEVENT
END:VCALENDAR