BEGIN:VCALENDAR
VERSION:2.0
PRODID:-//CERAP Planétarium - ECPv5.16.4//NONSGML v1.0//EN
CALSCALE:GREGORIAN
METHOD:PUBLISH
X-WR-CALNAME:CERAP Planétarium
X-ORIGINAL-URL:https://www.planetarium-belfort.fr
X-WR-CALDESC:évènements pour CERAP Planétarium
BEGIN:VTIMEZONE
TZID:Europe/Paris
BEGIN:DAYLIGHT
TZOFFSETFROM:+0100
TZOFFSETTO:+0200
TZNAME:CEST
DTSTART:20190331T010000
END:DAYLIGHT
BEGIN:STANDARD
TZOFFSETFROM:+0200
TZOFFSETTO:+0100
TZNAME:CET
DTSTART:20191027T010000
END:STANDARD
END:VTIMEZONE
BEGIN:VEVENT
DTSTART;TZID=Europe/Paris:20190804T150000
DTEND;TZID=Europe/Paris:20190804T170000
DTSTAMP:20260424T152904
CREATED:20190711T092433Z
LAST-MODIFIED:20190711T092639Z
UID:3905-1564930800-1564938000@www.planetarium-belfort.fr
SUMMARY:Nuit des étoiles
DESCRIPTION:Observation du Soleil avec des lunettes astronomiques adaptées à ce type d’observation. Venez admirer les protubérances\, tâches solaires et autres curiosités de notre étoile la plus proche.
URL:https://www.planetarium-belfort.fr/event/nuit-des-etoiles-2/
LOCATION:CERAP Planétarium\, 2 rue Jean Pierre Melville\, Belfort\, 90000\, France
CATEGORIES:Manifestation,Observations
ORGANIZER;CN="CERAP":MAILTO:cerap@neuf.fr
END:VEVENT
END:VCALENDAR