BEGIN:VCALENDAR
VERSION:2.0
PRODID:-//CERAP Planétarium - ECPv5.16.4//NONSGML v1.0//EN
CALSCALE:GREGORIAN
METHOD:PUBLISH
X-WR-CALNAME:CERAP Planétarium
X-ORIGINAL-URL:https://www.planetarium-belfort.fr
X-WR-CALDESC:évènements pour CERAP Planétarium
BEGIN:VTIMEZONE
TZID:Europe/Paris
BEGIN:DAYLIGHT
TZOFFSETFROM:+0100
TZOFFSETTO:+0200
TZNAME:CEST
DTSTART:20190331T010000
END:DAYLIGHT
BEGIN:STANDARD
TZOFFSETFROM:+0200
TZOFFSETTO:+0100
TZNAME:CET
DTSTART:20191027T010000
END:STANDARD
END:VTIMEZONE
BEGIN:VEVENT
DTSTART;TZID=Europe/Paris:20191012T100000
DTEND;TZID=Europe/Paris:20191012T180000
DTSTAMP:20260424T122715
CREATED:20191007T111508Z
LAST-MODIFIED:20191007T112730Z
UID:4275-1570874400-1570903200@www.planetarium-belfort.fr
SUMMARY:Fête de la science 2019
DESCRIPTION:Venez découvrir le stand du Cerap – Planétarium & Club d’Astronomie de Belfort – Vous y découvrirez des instruments d’astronomie\, des astrophotographies\, des météorites ainsi que des ateliers découverte et des jeux pour les plus jeunes… avec des entrées au Planétarium à gagner !
URL:https://www.planetarium-belfort.fr/event/fete-de-la-science-2019/
LOCATION:Salle des fêtes de Belfort\, 11 place de la République\, Belfort\, Territoire de Belfort\, 90000\, France
CATEGORIES:Manifestation
ORGANIZER;CN="Pavillon%20des%20sciences":MAILTO:contact@pavillon-sciences.com
END:VEVENT
BEGIN:VEVENT
DTSTART;TZID=Europe/Paris:20191012T203000
DTEND;TZID=Europe/Paris:20191012T230000
DTSTAMP:20260424T122715
CREATED:20191007T112613Z
LAST-MODIFIED:20191007T112614Z
UID:4283-1570912200-1570921200@www.planetarium-belfort.fr
SUMMARY:Jour de la nuit
DESCRIPTION:Le Jour de la Nuit est un événement national organisé annuellement depuis 2009. L’objectif de l’opération est d’attirer l’attention du grand public sur la protection de la biodiversité nocturne et du ciel étoilé \nProgramme du Planétarium de Belfort – Organisé en partenariat avec la Ville de Belfort qui éteindra l’éclairage public aux abords du Planétarium. \n\n20h30 : Conférence « Nous avons tous besoin de la Nuit » proposée par Franz GUICHET\n21h30 : Observation du ciel nocturne au télescope devant le Planétarium.\nSi les conditions météo sont défavorables\, nous proposerons une séance observation du ciel sous le dôme du Planétarium.
URL:https://www.planetarium-belfort.fr/event/jour-de-la-nuit/
LOCATION:CERAP Planétarium\, 2 rue Jean Pierre Melville\, Belfort\, 90000\, France
CATEGORIES:Manifestation,Observations
ORGANIZER;CN="CERAP":MAILTO:cerap@neuf.fr
END:VEVENT
END:VCALENDAR