BEGIN:VCALENDAR
VERSION:2.0
PRODID:-//CERAP Planétarium - ECPv5.16.4//NONSGML v1.0//EN
CALSCALE:GREGORIAN
METHOD:PUBLISH
X-WR-CALNAME:CERAP Planétarium
X-ORIGINAL-URL:https://www.planetarium-belfort.fr
X-WR-CALDESC:évènements pour CERAP Planétarium
BEGIN:VTIMEZONE
TZID:Europe/Paris
BEGIN:DAYLIGHT
TZOFFSETFROM:+0100
TZOFFSETTO:+0200
TZNAME:CEST
DTSTART:20210328T010000
END:DAYLIGHT
BEGIN:STANDARD
TZOFFSETFROM:+0200
TZOFFSETTO:+0100
TZNAME:CET
DTSTART:20211031T010000
END:STANDARD
END:VTIMEZONE
BEGIN:VEVENT
DTSTART;TZID=Europe/Paris:20210826T213000
DTEND;TZID=Europe/Paris:20210826T233000
DTSTAMP:20260423T060005
CREATED:20210720T092506Z
LAST-MODIFIED:20210804T214805Z
UID:7517-1630013400-1630020600@www.planetarium-belfort.fr
SUMMARY:Jeudis de l’Astronomie à la Citadelle de Belfort
DESCRIPTION:Voir le lien SITE pour les détails. \nPass sanitaire obligatoire.
URL:https://www.planetarium-belfort.fr/event/jeudis-de-lastronomie-a-la-citadelle-de-belfort-4/
LOCATION:Citadelle de Belfort\, Rue Xavier Bauer\, Belfort\, Territoire de Belfort\, 90000\, France
CATEGORIES:Manifestation
ORGANIZER;CN="CERAP":MAILTO:cerap@neuf.fr
END:VEVENT
END:VCALENDAR