BEGIN:VCALENDAR
VERSION:2.0
PRODID:-//CERAP Planétarium - ECPv5.16.4//NONSGML v1.0//EN
CALSCALE:GREGORIAN
METHOD:PUBLISH
X-WR-CALNAME:CERAP Planétarium
X-ORIGINAL-URL:https://www.planetarium-belfort.fr
X-WR-CALDESC:évènements pour CERAP Planétarium
BEGIN:VTIMEZONE
TZID:Europe/Paris
BEGIN:DAYLIGHT
TZOFFSETFROM:+0100
TZOFFSETTO:+0200
TZNAME:CEST
DTSTART:20210328T010000
END:DAYLIGHT
BEGIN:STANDARD
TZOFFSETFROM:+0200
TZOFFSETTO:+0100
TZNAME:CET
DTSTART:20211031T010000
END:STANDARD
END:VTIMEZONE
BEGIN:VEVENT
DTSTART;TZID=Europe/Paris:20210919T143000
DTEND;TZID=Europe/Paris:20210919T180000
DTSTAMP:20260423T043158
CREATED:20210901T145957Z
LAST-MODIFIED:20210901T145958Z
UID:7708-1632061800-1632074400@www.planetarium-belfort.fr
SUMMARY:Journées Européennes du Patrimoine
DESCRIPTION:Visites guidées du Planétarium et observations du ciel au télescope. \n\nà 14h30 : Visite guidée du Planétarium – Accueil 14h15\nà 16h00 : Visite guidée du Planétarium – Accueil 15h45\nde 15h à 18h : Observation du Soleil au télescope\n\n\nContraintes sanitaires :\n\nRéservation obligatoire pour les visites guidées\nContrôle Pass sanitaire pour les adultes\nPort du masque à partir de 6 ans
URL:https://www.planetarium-belfort.fr/event/journees-europeennes-du-patrimoine-7/
LOCATION:CERAP Planétarium\, 2 rue Jean Pierre Melville\, Belfort\, 90000\, France
CATEGORIES:Manifestation,Observations
ORGANIZER;CN="CERAP":MAILTO:cerap@neuf.fr
END:VEVENT
END:VCALENDAR