BEGIN:VCALENDAR
VERSION:2.0
PRODID:-//CERAP Planétarium - ECPv5.16.4//NONSGML v1.0//EN
CALSCALE:GREGORIAN
METHOD:PUBLISH
X-WR-CALNAME:CERAP Planétarium
X-ORIGINAL-URL:https://www.planetarium-belfort.fr
X-WR-CALDESC:évènements pour CERAP Planétarium
BEGIN:VTIMEZONE
TZID:Europe/Paris
BEGIN:DAYLIGHT
TZOFFSETFROM:+0100
TZOFFSETTO:+0200
TZNAME:CEST
DTSTART:20220327T010000
END:DAYLIGHT
BEGIN:STANDARD
TZOFFSETFROM:+0200
TZOFFSETTO:+0100
TZNAME:CET
DTSTART:20221030T010000
END:STANDARD
END:VTIMEZONE
BEGIN:VEVENT
DTSTART;TZID=Europe/Paris:20220918T150000
DTEND;TZID=Europe/Paris:20220918T180000
DTSTAMP:20260422T112835
CREATED:20220830T131832Z
LAST-MODIFIED:20220830T131833Z
UID:8908-1663513200-1663524000@www.planetarium-belfort.fr
SUMMARY:Journées Européennes du Patrimoine
DESCRIPTION:Visites guidées du Planétarium et observations du soleil \n\nà 15h00 : visite guidée du planétarium – Accueil à 14h45.\nde 15h00 à 18h00 : observation du soleil au télescope. Utilisation d’instruments adaptés pour l’observation du soleil.\n\nRéservation obligatoire pour la visite guidée
URL:https://www.planetarium-belfort.fr/event/journees-europeennes-du-patrimoine-9/
LOCATION:CERAP Planétarium\, 2 rue Jean Pierre Melville\, Belfort\, 90000\, France
CATEGORIES:Manifestation,Observations
ORGANIZER;CN="CERAP":MAILTO:cerap@neuf.fr
END:VEVENT
END:VCALENDAR