BEGIN:VCALENDAR
VERSION:2.0
PRODID:-//CERAP Planétarium - ECPv5.16.4//NONSGML v1.0//EN
CALSCALE:GREGORIAN
METHOD:PUBLISH
X-WR-CALNAME:CERAP Planétarium
X-ORIGINAL-URL:https://www.planetarium-belfort.fr
X-WR-CALDESC:évènements pour CERAP Planétarium
BEGIN:VTIMEZONE
TZID:Europe/Paris
BEGIN:DAYLIGHT
TZOFFSETFROM:+0100
TZOFFSETTO:+0200
TZNAME:CEST
DTSTART:20180325T010000
END:DAYLIGHT
BEGIN:STANDARD
TZOFFSETFROM:+0200
TZOFFSETTO:+0100
TZNAME:CET
DTSTART:20181028T010000
END:STANDARD
END:VTIMEZONE
BEGIN:VEVENT
DTSTART;TZID=Europe/Paris:20180916T140000
DTEND;TZID=Europe/Paris:20180916T180000
DTSTAMP:20260422T203849
CREATED:20180830T102025Z
LAST-MODIFIED:20180911T212354Z
UID:2482-1537106400-1537120800@www.planetarium-belfort.fr
SUMMARY:Journées Européennes du Patrimoine
DESCRIPTION:14h00 – 18h00 : Observation du Soleil au Télescope devant le Planétarium\n15h00 : Séance Planétarium (sur réservation – gratuit – 20 places)\n16h00 : Séance planétarium (sur réservation – gratuit – 20 places)
URL:https://www.planetarium-belfort.fr/event/journees-europeennes-du-patrimoine/
CATEGORIES:Observations,Séances de Planétarium
END:VEVENT
END:VCALENDAR