BEGIN:VCALENDAR
VERSION:2.0
PRODID:-//CERAP Planétarium - ECPv5.16.4//NONSGML v1.0//EN
CALSCALE:GREGORIAN
METHOD:PUBLISH
X-WR-CALNAME:CERAP Planétarium
X-ORIGINAL-URL:https://www.planetarium-belfort.fr
X-WR-CALDESC:évènements pour CERAP Planétarium
BEGIN:VTIMEZONE
TZID:Europe/Paris
BEGIN:DAYLIGHT
TZOFFSETFROM:+0100
TZOFFSETTO:+0200
TZNAME:CEST
DTSTART:20190331T010000
END:DAYLIGHT
BEGIN:STANDARD
TZOFFSETFROM:+0200
TZOFFSETTO:+0100
TZNAME:CET
DTSTART:20191027T010000
END:STANDARD
END:VTIMEZONE
BEGIN:VEVENT
DTSTART;TZID=Europe/Paris:20190413T150000
DTEND;TZID=Europe/Paris:20190413T180000
DTSTAMP:20260422T110225
CREATED:20190123T231059Z
LAST-MODIFIED:20190407T194334Z
UID:3381-1555167600-1555178400@www.planetarium-belfort.fr
SUMMARY:Portes ouvertes au Planétarium de Belfort
DESCRIPTION:Dans le cadre des Journées de L’astronomie de Belfort 2019 \nAu programme du samedi après midi: \n\nDeux séances gratuites de Planétarium à 15h00 et à 16h00\, sur réservation.\nVisite expositions astro-photos\, météorites et minéraux.\nObservation du Soleil au télescope – si météo clémente.
URL:https://www.planetarium-belfort.fr/event/portes-ouvertes-2019/
LOCATION:CERAP Planétarium\, 2 rue Jean Pierre Melville\, Belfort\, 90000\, France
CATEGORIES:Manifestation,Observations,Séances de Planétarium
ORGANIZER;CN="CERAP":MAILTO:cerap@neuf.fr
END:VEVENT
END:VCALENDAR