BEGIN:VCALENDAR
VERSION:2.0
PRODID:-//CERAP Planétarium - ECPv5.16.4//NONSGML v1.0//EN
CALSCALE:GREGORIAN
METHOD:PUBLISH
X-WR-CALNAME:CERAP Planétarium
X-ORIGINAL-URL:https://www.planetarium-belfort.fr
X-WR-CALDESC:évènements pour CERAP Planétarium
BEGIN:VTIMEZONE
TZID:Europe/Paris
BEGIN:DAYLIGHT
TZOFFSETFROM:+0100
TZOFFSETTO:+0200
TZNAME:CEST
DTSTART:20200329T010000
END:DAYLIGHT
BEGIN:STANDARD
TZOFFSETFROM:+0200
TZOFFSETTO:+0100
TZNAME:CET
DTSTART:20201025T010000
END:STANDARD
END:VTIMEZONE
BEGIN:VEVENT
DTSTART;TZID=Europe/Paris:20200704T143000
DTEND;TZID=Europe/Paris:20200704T143000
DTSTAMP:20260421T134034
CREATED:20200102T110956Z
LAST-MODIFIED:20200617T203053Z
UID:4557-1593873000-1593873000@www.planetarium-belfort.fr
SUMMARY:Séance Planétarium
DESCRIPTION:Voyage interstellaire sous le dôme du planétarium. Accueil 15 minutes avant le début de la séance. 10 personnes maximum et port du masque obligatoire.
URL:https://www.planetarium-belfort.fr/event/seance-planetarium-64/
LOCATION:CERAP Planétarium\, 2 rue Jean Pierre Melville\, Belfort\, 90000\, France
CATEGORIES:Séances de Planétarium
ORGANIZER;CN="CERAP":MAILTO:cerap@neuf.fr
END:VEVENT
END:VCALENDAR